BEGIN:VCALENDAR
VERSION:2.0
PRODID:-//The Center for Effective Philanthropy - ECPv6.15.9//NONSGML v1.0//EN
CALSCALE:GREGORIAN
METHOD:PUBLISH
X-ORIGINAL-URL:https://cep.org
X-WR-CALDESC:Events for The Center for Effective Philanthropy
REFRESH-INTERVAL;VALUE=DURATION:PT1H
X-Robots-Tag:noindex
X-PUBLISHED-TTL:PT1H
BEGIN:VTIMEZONE
TZID:America/Los_Angeles
BEGIN:DAYLIGHT
TZOFFSETFROM:-0800
TZOFFSETTO:-0700
TZNAME:PDT
DTSTART:20230312T100000
END:DAYLIGHT
BEGIN:STANDARD
TZOFFSETFROM:-0700
TZOFFSETTO:-0800
TZNAME:PST
DTSTART:20231105T090000
END:STANDARD
BEGIN:DAYLIGHT
TZOFFSETFROM:-0800
TZOFFSETTO:-0700
TZNAME:PDT
DTSTART:20240310T100000
END:DAYLIGHT
BEGIN:STANDARD
TZOFFSETFROM:-0700
TZOFFSETTO:-0800
TZNAME:PST
DTSTART:20241103T090000
END:STANDARD
BEGIN:DAYLIGHT
TZOFFSETFROM:-0800
TZOFFSETTO:-0700
TZNAME:PDT
DTSTART:20250309T100000
END:DAYLIGHT
BEGIN:STANDARD
TZOFFSETFROM:-0700
TZOFFSETTO:-0800
TZNAME:PST
DTSTART:20251102T090000
END:STANDARD
END:VTIMEZONE
BEGIN:VEVENT
DTSTART;TZID=America/Los_Angeles:20240926T081500
DTEND;TZID=America/Los_Angeles:20240926T170000
DTSTAMP:20260422T202220
CREATED:20240805T173039Z
LAST-MODIFIED:20240806T125622Z
UID:10000103-1727338500-1727370000@cep.org
SUMMARY:SCG's 2024 Annual Conference
DESCRIPTION:We are entering a unique moment in Southern California. While the nation and the world feel increasingly divided\, there is growing global interest in the economic\, environmental\, and cultural potential of our region. Major sporting events coming to Los Angeles\, including the 2026 World Cup\, the 2027 Super Bowl\, and the 2028 Olympics and Summer Paralympics\, are harbingers of the role our region must play as a leader working to solve complex problems from housing and homelessness to climate change and disaster mitigation. \nThere are tremendous opportunities ahead for our region. All of us working across sectors—philanthropy\, government\, corporate\, and community-based organizations—have vital roles to play. But we can’t go about it alone. Now\, more than ever\, we need partnership. Because when we work together\, we work better. \nSCG’s 2024 Annual Conference\, Better Together: Creating a Collective Legacy\, will explore how our sector can leverage this pivotal moment for the long-term benefit of our communities. We will discuss how forging a legacy of equity and prosperity for our region will require us to deepen our relationships and return to fundamental questions about collaboration: How do we build community and trust between ourselves and our partners? Do we have systems of accountability and care amongst one another? What does it mean to be a thriving\, interdependent region with shared values and vision? \nWe hope you will join SCG’s signature annual event to learn about the critical issues our sector will grapple with in the years ahead\, the consequences of the impending November elections\, and the strategies needed to ensure a lasting impact in Southern California. Together\, we will explore the potential of philanthropy to leverage global moments in service of regional movements and progress. \nSeara Grundhoefer\, Analyst\, Research will be speaking.
URL:https://cep.org/event/scgs-2024-annual-conference/
LOCATION:InterContinental Los Angeles Downtown\, 900 Wilshire Blvd\, Los Angeles\, CA\, 90017\, United States
CATEGORIES:Speaking Engagement
END:VEVENT
END:VCALENDAR