BEGIN:VCALENDAR
VERSION:2.0
PRODID:-//The Center for Effective Philanthropy - ECPv6.15.9//NONSGML v1.0//EN
CALSCALE:GREGORIAN
METHOD:PUBLISH
X-WR-CALNAME:The Center for Effective Philanthropy
X-ORIGINAL-URL:https://cep.org
X-WR-CALDESC:Events for The Center for Effective Philanthropy
REFRESH-INTERVAL;VALUE=DURATION:PT1H
X-Robots-Tag:noindex
X-PUBLISHED-TTL:PT1H
BEGIN:VTIMEZONE
TZID:America/New_York
BEGIN:DAYLIGHT
TZOFFSETFROM:-0500
TZOFFSETTO:-0400
TZNAME:EDT
DTSTART:20240310T070000
END:DAYLIGHT
BEGIN:STANDARD
TZOFFSETFROM:-0400
TZOFFSETTO:-0500
TZNAME:EST
DTSTART:20241103T060000
END:STANDARD
BEGIN:DAYLIGHT
TZOFFSETFROM:-0500
TZOFFSETTO:-0400
TZNAME:EDT
DTSTART:20250309T070000
END:DAYLIGHT
BEGIN:STANDARD
TZOFFSETFROM:-0400
TZOFFSETTO:-0500
TZNAME:EST
DTSTART:20251102T060000
END:STANDARD
BEGIN:DAYLIGHT
TZOFFSETFROM:-0500
TZOFFSETTO:-0400
TZNAME:EDT
DTSTART:20260308T070000
END:DAYLIGHT
BEGIN:STANDARD
TZOFFSETFROM:-0400
TZOFFSETTO:-0500
TZNAME:EST
DTSTART:20261101T060000
END:STANDARD
END:VTIMEZONE
BEGIN:VEVENT
DTSTART;TZID=America/New_York:20250910T173000
DTEND;TZID=America/New_York:20250910T183000
DTSTAMP:20260420T065551
CREATED:20250805T175502Z
LAST-MODIFIED:20250805T175502Z
UID:10000119-1757525400-1757529000@cep.org
SUMMARY:Giving Done Right: A Conversation with Author Phil Buchanan
DESCRIPTION:Join Spur Community Foundation for an evening with Phil Buchanan\, president of the Center for Effective Philanthropy (CEP) and author of Giving Done Right: Effective Philanthropy and Making Every Dollar Count—named Best Philanthropy Book of the Year (2019) by Inside Philanthropy. \nA passionate advocate for effective giving and a strong nonprofit sector\, Buchanan has worked with hundreds of individual donors for more than two decades. As founding CEO of CEP\, co-host of the Giving Done Right podcast\, and a widely published thought leader\, he brings a deep understanding of what works—and what doesn’t—when it comes to giving with impact. \nIn conversation with Sally Gillespie\, Executive Director of Spur Community Foundation\, Buchanan will explore how donors at every level can be more thoughtful\, strategic\, and effective in their philanthropy. Whether you’re just beginning your giving journey or refining your legacy\, this event will offer powerful insights and practical guidance for meaningful\, lasting impact.
URL:https://cep.org/event/giving-done-right-a-conversation-with-author-phil-buchanan/
LOCATION:The Argyros Performing Arts Theater\, 120 South Main St\, Ketchum\,\, ID\, 83340\, United States
END:VEVENT
END:VCALENDAR