BEGIN:VCALENDAR
VERSION:2.0
PRODID:-//The Center for Effective Philanthropy - ECPv6.15.9//NONSGML v1.0//EN
CALSCALE:GREGORIAN
METHOD:PUBLISH
X-ORIGINAL-URL:https://cep.org
X-WR-CALDESC:Events for The Center for Effective Philanthropy
REFRESH-INTERVAL;VALUE=DURATION:PT1H
X-Robots-Tag:noindex
X-PUBLISHED-TTL:PT1H
BEGIN:VTIMEZONE
TZID:America/New_York
BEGIN:DAYLIGHT
TZOFFSETFROM:-0500
TZOFFSETTO:-0400
TZNAME:EDT
DTSTART:20250309T070000
END:DAYLIGHT
BEGIN:STANDARD
TZOFFSETFROM:-0400
TZOFFSETTO:-0500
TZNAME:EST
DTSTART:20251102T060000
END:STANDARD
BEGIN:DAYLIGHT
TZOFFSETFROM:-0500
TZOFFSETTO:-0400
TZNAME:EDT
DTSTART:20260308T070000
END:DAYLIGHT
BEGIN:STANDARD
TZOFFSETFROM:-0400
TZOFFSETTO:-0500
TZNAME:EST
DTSTART:20261101T060000
END:STANDARD
BEGIN:DAYLIGHT
TZOFFSETFROM:-0500
TZOFFSETTO:-0400
TZNAME:EDT
DTSTART:20270314T070000
END:DAYLIGHT
BEGIN:STANDARD
TZOFFSETFROM:-0400
TZOFFSETTO:-0500
TZNAME:EST
DTSTART:20271107T060000
END:STANDARD
END:VTIMEZONE
BEGIN:VEVENT
DTSTART;TZID=America/New_York:20260430T140000
DTEND;TZID=America/New_York:20260430T150000
DTSTAMP:20260423T165232
CREATED:20260423T143224Z
LAST-MODIFIED:20260423T143224Z
UID:10000134-1777557600-1777561200@cep.org
SUMMARY:Nonprofit Financials & BDO - Funder Briefing
DESCRIPTION:The Nonprofit GPS initiative invites you to save the date for a special update for private philanthropy regarding the financial condition of the sector and its component fields of practice. This session\, which has been carefully researched\, is designed to inspire and inform funder practice during this particular era. Among other things we will discuss: \n\nWhat are the direct and indirect impacts on nonprofits of policy and revenue shifts in our environment\nHow are organizations responding to the multifaceted financial quandaries that flow from those shifts and other conditions.\nHow funders are and can act strategically to be substantively helpful to the nonprofits they fund\n\nGuest Speaker: Elisha Smith Arrillaga
URL:https://cep.org/event/nonprofit-financials-bdo-funder-briefing/
CATEGORIES:Speaking Engagement
END:VEVENT
END:VCALENDAR